BEGIN:VCALENDAR
VERSION:2.0
PRODID:-//ND Cheer Tech - ECPv6.15.16//NONSGML v1.0//EN
CALSCALE:GREGORIAN
METHOD:PUBLISH
X-ORIGINAL-URL:https://ndcheertech.com
X-WR-CALDESC:Events for ND Cheer Tech
REFRESH-INTERVAL;VALUE=DURATION:PT1H
X-Robots-Tag:noindex
X-PUBLISHED-TTL:PT1H
BEGIN:VTIMEZONE
TZID:UTC
BEGIN:STANDARD
TZOFFSETFROM:+0000
TZOFFSETTO:+0000
TZNAME:UTC
DTSTART:20250101T000000
END:STANDARD
END:VTIMEZONE
BEGIN:VEVENT
DTSTART;TZID=UTC:20260501T160000
DTEND;TZID=UTC:20260501T173000
DTSTAMP:20260420T055216
CREATED:20260415T190643Z
LAST-MODIFIED:20260415T190649Z
UID:10000037-1777651200-1777656600@ndcheertech.com
SUMMARY:Gearing up for Placements
DESCRIPTION:Prepare for season 9 team placements! We will be working on tumbling technique\, learning new stunts\, and perfecting jumps in order to build confidence going into team placements. \n  \n 
URL:https://ndcheertech.com/event/gearing-up-for-placements/
CATEGORIES:Upcoming Events
ATTACH;FMTTYPE=image/png:https://ndcheertech.com/wp-content/uploads/2026/04/may-1.png
END:VEVENT
END:VCALENDAR